BEGIN:VCALENDAR
VERSION:2.0
PRODID:-//Baron Bunny Cafe - ECPv6.15.20//NONSGML v1.0//EN
CALSCALE:GREGORIAN
METHOD:PUBLISH
X-WR-CALNAME:Baron Bunny Cafe
X-ORIGINAL-URL:https://baronbunnycafe.com
X-WR-CALDESC:Events for Baron Bunny Cafe
REFRESH-INTERVAL;VALUE=DURATION:PT1H
X-Robots-Tag:noindex
X-PUBLISHED-TTL:PT1H
BEGIN:VTIMEZONE
TZID:America/New_York
BEGIN:DAYLIGHT
TZOFFSETFROM:-0500
TZOFFSETTO:-0400
TZNAME:EDT
DTSTART:20250309T070000
END:DAYLIGHT
BEGIN:STANDARD
TZOFFSETFROM:-0400
TZOFFSETTO:-0500
TZNAME:EST
DTSTART:20251102T060000
END:STANDARD
BEGIN:DAYLIGHT
TZOFFSETFROM:-0500
TZOFFSETTO:-0400
TZNAME:EDT
DTSTART:20260308T070000
END:DAYLIGHT
BEGIN:STANDARD
TZOFFSETFROM:-0400
TZOFFSETTO:-0500
TZNAME:EST
DTSTART:20261101T060000
END:STANDARD
BEGIN:DAYLIGHT
TZOFFSETFROM:-0500
TZOFFSETTO:-0400
TZNAME:EDT
DTSTART:20270314T070000
END:DAYLIGHT
BEGIN:STANDARD
TZOFFSETFROM:-0400
TZOFFSETTO:-0500
TZNAME:EST
DTSTART:20271107T060000
END:STANDARD
END:VTIMEZONE
BEGIN:VEVENT
DTSTART;TZID=America/New_York:20260425T103000
DTEND;TZID=America/New_York:20260425T180000
DTSTAMP:20260421T083732
CREATED:20260408T014404Z
LAST-MODIFIED:20260408T015813Z
UID:3048-1777113000-1777140000@baronbunnycafe.com
SUMMARY:Georgia Renaissance Festival
DESCRIPTION:Visit the Baron Bunny Tea Shop at the GA Renaissance Festival and explore our world of loose‑leaf teas and locally roasted coffees. Enjoy a warm cup of your favorite blend\, an iced coffee\, or a mug of traditional wassail as you wander the festival. \n\n\n\nBrowse our selection of vintage teacups\, tea accessories\, and curated gift boxes featuring the same teas and coffees available through our online shop. Add a creative touch to your visit at our candle‑making station\, where you can design a custom scented candle to take home.
URL:https://baronbunnycafe.com/event/georgia-renaissance-festival-5/
LOCATION:Georgia Renaissance Festival\, 6905 Virlyn B. Smith Rd\, Fairburn\, Georgia\, 30213\, United States
ATTACH;FMTTYPE=image/webp:https://baronbunnycafe.com/wp-content/uploads/2026/03/GA-Renaissance-Festival.webp
ORGANIZER;CN="Baron Bunny Cafe":MAILTO:baronbunnycafe@gmail.com
END:VEVENT
BEGIN:VEVENT
DTSTART;TZID=America/New_York:20260426T103000
DTEND;TZID=America/New_York:20260426T180000
DTSTAMP:20260421T083732
CREATED:20260408T014443Z
LAST-MODIFIED:20260408T015728Z
UID:3050-1777199400-1777226400@baronbunnycafe.com
SUMMARY:Georgia Renaissance Festival
DESCRIPTION:Visit the Baron Bunny Tea Shop at the GA Renaissance Festival and explore our world of loose‑leaf teas and locally roasted coffees. Enjoy a warm cup of your favorite blend\, an iced coffee\, or a mug of traditional wassail as you wander the festival. \n\n\n\nBrowse our selection of vintage teacups\, tea accessories\, and curated gift boxes featuring the same teas and coffees available through our online shop. Add a creative touch to your visit at our candle‑making station\, where you can design a custom scented candle to take home.
URL:https://baronbunnycafe.com/event/georgia-renaissance-festival-6/
LOCATION:Georgia Renaissance Festival\, 6905 Virlyn B. Smith Rd\, Fairburn\, Georgia\, 30213\, United States
ATTACH;FMTTYPE=image/webp:https://baronbunnycafe.com/wp-content/uploads/2026/03/GA-Renaissance-Festival.webp
ORGANIZER;CN="Baron Bunny Cafe":MAILTO:baronbunnycafe@gmail.com
END:VEVENT
BEGIN:VEVENT
DTSTART;TZID=America/New_York:20260502T103000
DTEND;TZID=America/New_York:20260502T180000
DTSTAMP:20260421T083732
CREATED:20260408T014538Z
LAST-MODIFIED:20260408T015656Z
UID:3052-1777717800-1777744800@baronbunnycafe.com
SUMMARY:Georgia Renaissance Festival
DESCRIPTION:Visit the Baron Bunny Tea Shop at the GA Renaissance Festival and explore our world of loose‑leaf teas and locally roasted coffees. Enjoy a warm cup of your favorite blend\, an iced coffee\, or a mug of traditional wassail as you wander the festival. \n\n\n\nBrowse our selection of vintage teacups\, tea accessories\, and curated gift boxes featuring the same teas and coffees available through our online shop. Add a creative touch to your visit at our candle‑making station\, where you can design a custom scented candle to take home.
URL:https://baronbunnycafe.com/event/georgia-renaissance-festival-7/
LOCATION:Georgia Renaissance Festival\, 6905 Virlyn B. Smith Rd\, Fairburn\, Georgia\, 30213\, United States
ATTACH;FMTTYPE=image/webp:https://baronbunnycafe.com/wp-content/uploads/2026/03/GA-Renaissance-Festival.webp
ORGANIZER;CN="Baron Bunny Cafe":MAILTO:baronbunnycafe@gmail.com
END:VEVENT
BEGIN:VEVENT
DTSTART;TZID=America/New_York:20260503T103000
DTEND;TZID=America/New_York:20260503T180000
DTSTAMP:20260421T083732
CREATED:20260408T020059Z
LAST-MODIFIED:20260408T020101Z
UID:3062-1777804200-1777831200@baronbunnycafe.com
SUMMARY:Georgia Renaissance Festival
DESCRIPTION:Visit the Baron Bunny Tea Shop at the GA Renaissance Festival and explore our world of loose‑leaf teas and locally roasted coffees. Enjoy a warm cup of your favorite blend\, an iced coffee\, or a mug of traditional wassail as you wander the festival. \n\n\n\nBrowse our selection of vintage teacups\, tea accessories\, and curated gift boxes featuring the same teas and coffees available through our online shop. Add a creative touch to your visit at our candle‑making station\, where you can design a custom scented candle to take home.
URL:https://baronbunnycafe.com/event/georgia-renaissance-festival-8/
LOCATION:Georgia Renaissance Festival\, 6905 Virlyn B. Smith Rd\, Fairburn\, Georgia\, 30213\, United States
ATTACH;FMTTYPE=image/webp:https://baronbunnycafe.com/wp-content/uploads/2026/03/GA-Renaissance-Festival.webp
ORGANIZER;CN="Baron Bunny Cafe":MAILTO:baronbunnycafe@gmail.com
END:VEVENT
BEGIN:VEVENT
DTSTART;TZID=America/New_York:20260509T103000
DTEND;TZID=America/New_York:20260509T180000
DTSTAMP:20260421T083732
CREATED:20260408T020141Z
LAST-MODIFIED:20260408T020144Z
UID:3064-1778322600-1778349600@baronbunnycafe.com
SUMMARY:Georgia Renaissance Festival
DESCRIPTION:Visit the Baron Bunny Tea Shop at the GA Renaissance Festival and explore our world of loose‑leaf teas and locally roasted coffees. Enjoy a warm cup of your favorite blend\, an iced coffee\, or a mug of traditional wassail as you wander the festival. \n\n\n\nBrowse our selection of vintage teacups\, tea accessories\, and curated gift boxes featuring the same teas and coffees available through our online shop. Add a creative touch to your visit at our candle‑making station\, where you can design a custom scented candle to take home.
URL:https://baronbunnycafe.com/event/georgia-renaissance-festival-9/
LOCATION:Georgia Renaissance Festival\, 6905 Virlyn B. Smith Rd\, Fairburn\, Georgia\, 30213\, United States
ATTACH;FMTTYPE=image/webp:https://baronbunnycafe.com/wp-content/uploads/2026/03/GA-Renaissance-Festival.webp
ORGANIZER;CN="Baron Bunny Cafe":MAILTO:baronbunnycafe@gmail.com
END:VEVENT
BEGIN:VEVENT
DTSTART;TZID=America/New_York:20260510T103000
DTEND;TZID=America/New_York:20260510T180000
DTSTAMP:20260421T083732
CREATED:20260408T020228Z
LAST-MODIFIED:20260408T020230Z
UID:3066-1778409000-1778436000@baronbunnycafe.com
SUMMARY:Georgia Renaissance Festival
DESCRIPTION:Visit the Baron Bunny Tea Shop at the GA Renaissance Festival and explore our world of loose‑leaf teas and locally roasted coffees. Enjoy a warm cup of your favorite blend\, an iced coffee\, or a mug of traditional wassail as you wander the festival. \n\n\n\nBrowse our selection of vintage teacups\, tea accessories\, and curated gift boxes featuring the same teas and coffees available through our online shop. Add a creative touch to your visit at our candle‑making station\, where you can design a custom scented candle to take home.
URL:https://baronbunnycafe.com/event/georgia-renaissance-festival-10/
LOCATION:Georgia Renaissance Festival\, 6905 Virlyn B. Smith Rd\, Fairburn\, Georgia\, 30213\, United States
ATTACH;FMTTYPE=image/webp:https://baronbunnycafe.com/wp-content/uploads/2026/03/GA-Renaissance-Festival.webp
ORGANIZER;CN="Baron Bunny Cafe":MAILTO:baronbunnycafe@gmail.com
END:VEVENT
BEGIN:VEVENT
DTSTART;TZID=America/New_York:20260516T103000
DTEND;TZID=America/New_York:20260516T180000
DTSTAMP:20260421T083732
CREATED:20260408T020312Z
LAST-MODIFIED:20260408T020315Z
UID:3068-1778927400-1778954400@baronbunnycafe.com
SUMMARY:Georgia Renaissance Festival
DESCRIPTION:Visit the Baron Bunny Tea Shop at the GA Renaissance Festival and explore our world of loose‑leaf teas and locally roasted coffees. Enjoy a warm cup of your favorite blend\, an iced coffee\, or a mug of traditional wassail as you wander the festival. \n\n\n\nBrowse our selection of vintage teacups\, tea accessories\, and curated gift boxes featuring the same teas and coffees available through our online shop. Add a creative touch to your visit at our candle‑making station\, where you can design a custom scented candle to take home.
URL:https://baronbunnycafe.com/event/georgia-renaissance-festival-11/
LOCATION:Georgia Renaissance Festival\, 6905 Virlyn B. Smith Rd\, Fairburn\, Georgia\, 30213\, United States
ATTACH;FMTTYPE=image/webp:https://baronbunnycafe.com/wp-content/uploads/2026/03/GA-Renaissance-Festival.webp
ORGANIZER;CN="Baron Bunny Cafe":MAILTO:baronbunnycafe@gmail.com
END:VEVENT
BEGIN:VEVENT
DTSTART;TZID=America/New_York:20260517T103000
DTEND;TZID=America/New_York:20260517T180000
DTSTAMP:20260421T083732
CREATED:20260408T020403Z
LAST-MODIFIED:20260408T020405Z
UID:3070-1779013800-1779040800@baronbunnycafe.com
SUMMARY:Georgia Renaissance Festival
DESCRIPTION:Visit the Baron Bunny Tea Shop at the GA Renaissance Festival and explore our world of loose‑leaf teas and locally roasted coffees. Enjoy a warm cup of your favorite blend\, an iced coffee\, or a mug of traditional wassail as you wander the festival. \n\n\n\nBrowse our selection of vintage teacups\, tea accessories\, and curated gift boxes featuring the same teas and coffees available through our online shop. Add a creative touch to your visit at our candle‑making station\, where you can design a custom scented candle to take home.
URL:https://baronbunnycafe.com/event/georgia-renaissance-festival-12/
LOCATION:Georgia Renaissance Festival\, 6905 Virlyn B. Smith Rd\, Fairburn\, Georgia\, 30213\, United States
ATTACH;FMTTYPE=image/webp:https://baronbunnycafe.com/wp-content/uploads/2026/03/GA-Renaissance-Festival.webp
ORGANIZER;CN="Baron Bunny Cafe":MAILTO:baronbunnycafe@gmail.com
END:VEVENT
BEGIN:VEVENT
DTSTART;TZID=America/New_York:20260523T103000
DTEND;TZID=America/New_York:20260523T180000
DTSTAMP:20260421T083732
CREATED:20260408T020435Z
LAST-MODIFIED:20260408T020438Z
UID:3071-1779532200-1779559200@baronbunnycafe.com
SUMMARY:Georgia Renaissance Festival
DESCRIPTION:Visit the Baron Bunny Tea Shop at the GA Renaissance Festival and explore our world of loose‑leaf teas and locally roasted coffees. Enjoy a warm cup of your favorite blend\, an iced coffee\, or a mug of traditional wassail as you wander the festival. \n\n\n\nBrowse our selection of vintage teacups\, tea accessories\, and curated gift boxes featuring the same teas and coffees available through our online shop. Add a creative touch to your visit at our candle‑making station\, where you can design a custom scented candle to take home.
URL:https://baronbunnycafe.com/event/georgia-renaissance-festival-13/
LOCATION:Georgia Renaissance Festival\, 6905 Virlyn B. Smith Rd\, Fairburn\, Georgia\, 30213\, United States
ATTACH;FMTTYPE=image/webp:https://baronbunnycafe.com/wp-content/uploads/2026/03/GA-Renaissance-Festival.webp
ORGANIZER;CN="Baron Bunny Cafe":MAILTO:baronbunnycafe@gmail.com
END:VEVENT
BEGIN:VEVENT
DTSTART;TZID=America/New_York:20260524T103000
DTEND;TZID=America/New_York:20260524T180000
DTSTAMP:20260421T083732
CREATED:20260408T020519Z
LAST-MODIFIED:20260408T020521Z
UID:3074-1779618600-1779645600@baronbunnycafe.com
SUMMARY:Georgia Renaissance Festival
DESCRIPTION:Visit the Baron Bunny Tea Shop at the GA Renaissance Festival and explore our world of loose‑leaf teas and locally roasted coffees. Enjoy a warm cup of your favorite blend\, an iced coffee\, or a mug of traditional wassail as you wander the festival. \n\n\n\nBrowse our selection of vintage teacups\, tea accessories\, and curated gift boxes featuring the same teas and coffees available through our online shop. Add a creative touch to your visit at our candle‑making station\, where you can design a custom scented candle to take home.
URL:https://baronbunnycafe.com/event/georgia-renaissance-festival-14/
LOCATION:Georgia Renaissance Festival\, 6905 Virlyn B. Smith Rd\, Fairburn\, Georgia\, 30213\, United States
ATTACH;FMTTYPE=image/webp:https://baronbunnycafe.com/wp-content/uploads/2026/03/GA-Renaissance-Festival.webp
ORGANIZER;CN="Baron Bunny Cafe":MAILTO:baronbunnycafe@gmail.com
END:VEVENT
BEGIN:VEVENT
DTSTART;TZID=America/New_York:20260525T103000
DTEND;TZID=America/New_York:20260525T180000
DTSTAMP:20260421T083732
CREATED:20260408T020555Z
LAST-MODIFIED:20260408T020557Z
UID:3076-1779705000-1779732000@baronbunnycafe.com
SUMMARY:Georgia Renaissance Festival
DESCRIPTION:Visit the Baron Bunny Tea Shop at the GA Renaissance Festival and explore our world of loose‑leaf teas and locally roasted coffees. Enjoy a warm cup of your favorite blend\, an iced coffee\, or a mug of traditional wassail as you wander the festival. \n\n\n\nBrowse our selection of vintage teacups\, tea accessories\, and curated gift boxes featuring the same teas and coffees available through our online shop. Add a creative touch to your visit at our candle‑making station\, where you can design a custom scented candle to take home.
URL:https://baronbunnycafe.com/event/georgia-renaissance-festival-15/
LOCATION:Georgia Renaissance Festival\, 6905 Virlyn B. Smith Rd\, Fairburn\, Georgia\, 30213\, United States
ATTACH;FMTTYPE=image/webp:https://baronbunnycafe.com/wp-content/uploads/2026/03/GA-Renaissance-Festival.webp
ORGANIZER;CN="Baron Bunny Cafe":MAILTO:baronbunnycafe@gmail.com
END:VEVENT
BEGIN:VEVENT
DTSTART;TZID=America/New_York:20260530T103000
DTEND;TZID=America/New_York:20260530T180000
DTSTAMP:20260421T083732
CREATED:20260408T020637Z
LAST-MODIFIED:20260408T020639Z
UID:3078-1780137000-1780164000@baronbunnycafe.com
SUMMARY:Georgia Renaissance Festival
DESCRIPTION:Visit the Baron Bunny Tea Shop at the GA Renaissance Festival and explore our world of loose‑leaf teas and locally roasted coffees. Enjoy a warm cup of your favorite blend\, an iced coffee\, or a mug of traditional wassail as you wander the festival. \n\n\n\nBrowse our selection of vintage teacups\, tea accessories\, and curated gift boxes featuring the same teas and coffees available through our online shop. Add a creative touch to your visit at our candle‑making station\, where you can design a custom scented candle to take home.
URL:https://baronbunnycafe.com/event/georgia-renaissance-festival-16/
LOCATION:Georgia Renaissance Festival\, 6905 Virlyn B. Smith Rd\, Fairburn\, Georgia\, 30213\, United States
ATTACH;FMTTYPE=image/webp:https://baronbunnycafe.com/wp-content/uploads/2026/03/GA-Renaissance-Festival.webp
ORGANIZER;CN="Baron Bunny Cafe":MAILTO:baronbunnycafe@gmail.com
END:VEVENT
BEGIN:VEVENT
DTSTART;TZID=America/New_York:20260531T103000
DTEND;TZID=America/New_York:20260531T180000
DTSTAMP:20260421T083732
CREATED:20260408T020719Z
LAST-MODIFIED:20260408T020721Z
UID:3080-1780223400-1780250400@baronbunnycafe.com
SUMMARY:Georgia Renaissance Festival
DESCRIPTION:Visit the Baron Bunny Tea Shop at the GA Renaissance Festival and explore our world of loose‑leaf teas and locally roasted coffees. Enjoy a warm cup of your favorite blend\, an iced coffee\, or a mug of traditional wassail as you wander the festival. \n\n\n\nBrowse our selection of vintage teacups\, tea accessories\, and curated gift boxes featuring the same teas and coffees available through our online shop. Add a creative touch to your visit at our candle‑making station\, where you can design a custom scented candle to take home.
URL:https://baronbunnycafe.com/event/georgia-renaissance-festival-17/
LOCATION:Georgia Renaissance Festival\, 6905 Virlyn B. Smith Rd\, Fairburn\, Georgia\, 30213\, United States
ATTACH;FMTTYPE=image/webp:https://baronbunnycafe.com/wp-content/uploads/2026/03/GA-Renaissance-Festival.webp
ORGANIZER;CN="Baron Bunny Cafe":MAILTO:baronbunnycafe@gmail.com
END:VEVENT
END:VCALENDAR